BEGIN:VCALENDAR
VERSION:2.0
PRODID:-//DJ Kev Entertainment | Weddings | Corporate | Parties | Midlands | KZN - ECPv6.15.20//NONSGML v1.0//EN
CALSCALE:GREGORIAN
METHOD:PUBLISH
X-WR-CALNAME:DJ Kev Entertainment | Weddings | Corporate | Parties | Midlands | KZN
X-ORIGINAL-URL:https://djkev.co.za
X-WR-CALDESC:Events for DJ Kev Entertainment | Weddings | Corporate | Parties | Midlands | KZN
REFRESH-INTERVAL;VALUE=DURATION:PT1H
X-Robots-Tag:noindex
X-PUBLISHED-TTL:PT1H
BEGIN:VTIMEZONE
TZID:Africa/Johannesburg
BEGIN:STANDARD
TZOFFSETFROM:+0200
TZOFFSETTO:+0200
TZNAME:SAST
DTSTART:20190101T000000
END:STANDARD
END:VTIMEZONE
BEGIN:VEVENT
DTSTART;TZID=Africa/Johannesburg:20220618T153000
DTEND;TZID=Africa/Johannesburg:20220618T170000
DTSTAMP:20260421T031634
CREATED:20220607T172615Z
LAST-MODIFIED:20220607T172629Z
UID:5077-1655566200-1655571600@djkev.co.za
SUMMARY:Reflections Modelling Graduation Ceremony
DESCRIPTION:Reflections Modelling Agency will be holding their graduation ceremony at the Methodist Church in Hilton\, KwaZulu-Natal.
URL:https://djkev.co.za/event/reflections-modelling-graduation-ceremony/
CATEGORIES:Modelling
ATTACH;FMTTYPE=image/jpeg:https://djkev.co.za/wp-content/uploads/2020/04/Reflections-16.jpg
END:VEVENT
BEGIN:VEVENT
DTSTART;TZID=Africa/Johannesburg:20220205T140000
DTEND;TZID=Africa/Johannesburg:20220205T170000
DTSTAMP:20260421T031634
CREATED:20220125T165653Z
LAST-MODIFIED:20220125T170424Z
UID:4824-1644069600-1644080400@djkev.co.za
SUMMARY:Reflections Modelling Graduation Ceremony
DESCRIPTION:Reflections Modelling Agency will be holding their graduation ceremony at the Methodist Church in Hilton\, KwaZulu-Natal.
URL:https://djkev.co.za/event/modeling-graduation-ceremony/
LOCATION:Methodist Church\, Hilton\, KwaZulu-Natal\, South Africa
CATEGORIES:Modelling
ATTACH;FMTTYPE=image/jpeg:https://djkev.co.za/wp-content/uploads/2020/04/Reflections-16.jpg
END:VEVENT
BEGIN:VEVENT
DTSTART;TZID=Africa/Johannesburg:20210131T140000
DTEND;TZID=Africa/Johannesburg:20210131T170000
DTSTAMP:20260421T031634
CREATED:20201201T175646Z
LAST-MODIFIED:20210212T150710Z
UID:2512-1612101600-1612112400@djkev.co.za
SUMMARY:Reflections Modelling Agency Graduation
DESCRIPTION:Reflections Modelling Agency will be holding their annual graduation ceremony on 31/1/2021 at Hilton Baptist Church.
URL:https://djkev.co.za/event/reflections-modelling-agency-graduation-2/
LOCATION:Methodist Church\, Hilton\, KwaZulu-Natal\, South Africa
CATEGORIES:Modelling
ATTACH;FMTTYPE=image/jpeg:https://djkev.co.za/wp-content/uploads/2020/01/wedding-reflections.jpg
END:VEVENT
BEGIN:VEVENT
DTSTART;TZID=Africa/Johannesburg:20200613T140000
DTEND;TZID=Africa/Johannesburg:20200613T170000
DTSTAMP:20260421T031634
CREATED:20200119T185357Z
LAST-MODIFIED:20200119T185719Z
UID:824-1592056800-1592067600@djkev.co.za
SUMMARY:Graduation Ceremony
DESCRIPTION:
URL:https://djkev.co.za/event/graduation-ceremony-2/
CATEGORIES:Corporate Function,Modelling
ATTACH;FMTTYPE=image/jpeg:https://djkev.co.za/wp-content/uploads/2020/01/wedding-reflections.jpg
END:VEVENT
BEGIN:VEVENT
DTSTART;TZID=Africa/Johannesburg:20200321T140000
DTEND;TZID=Africa/Johannesburg:20200321T170000
DTSTAMP:20260421T031634
CREATED:20200113T045952Z
LAST-MODIFIED:20200117T145945Z
UID:450-1584799200-1584810000@djkev.co.za
SUMMARY:Graduation Ceremony
DESCRIPTION:
URL:https://djkev.co.za/event/graduation-ceremony/
CATEGORIES:Corporate Function,Modelling
ATTACH;FMTTYPE=image/jpeg:https://djkev.co.za/wp-content/uploads/2020/01/wedding-reflections.jpg
END:VEVENT
END:VCALENDAR